BEGIN:VCALENDAR
VERSION:2.0
PRODID:EVENTFROG//EVENT//ICAL
BEGIN:VEVENT
UID:20260424T083453Z-7452302674148518346@eventfrog.de
DTSTAMP:20260424T083453Z
DTSTART:20260620T163000Z
DTEND:20260620T230000Z
SUMMARY:Live am Türlersee
DESCRIPTION:Live-Musik direkt am Ufer vom Strandbad Türlersee mit den Bands Black Cat’s Smoking, Last Avenue, Wilcox und Steamy Pigeon Loft. Bar & Grill. Eintritt frei - Kollekte\n\nhttps://eventfrog.de/de/p/festivals/pop-rock/live-am-tuerlersee-7452302674148518346.html
LOCATION:Türlersee - Camping Strandbad Restaurant
GEO:47.267657;8.510252
URL:https://eventfrog.de/de/p/festivals/pop-rock/live-am-tuerlersee-7452302674148518346.html
END:VEVENT
END:VCALENDAR