BEGIN:VCALENDAR
VERSION:2.0
PRODID:EVENTFROG//EVENT//ICAL
BEGIN:VEVENT
UID:20260422T100249Z-7452303256414358331@eventfrog.de
DTSTAMP:20260422T100249Z
DTSTART:20260430T160000Z
DTEND:20260515T160000Z
SUMMARY:BBA Artist Prize 2026 Exhibition
DESCRIPTION:Fifteen international finalists present new works at BBA Gallery during Gallery Weekend Berlin, spotlighting emerging talents.\n\nhttps://eventfrog.de/en/p/art-exhibitions/exhibition/bba-artist-prize-2026-exhibition-7452303256414358331.html
LOCATION:BBA Gallery
GEO:52.511204;13.414230
URL:https://eventfrog.de/en/p/art-exhibitions/exhibition/bba-artist-prize-2026-exhibition-7452303256414358331.html
END:VEVENT
END:VCALENDAR