BEGIN:VCALENDAR
VERSION:2.0
PRODID:EVENTFROG//EVENT//ICAL
BEGIN:VEVENT
UID:20260424T195656Z-7452305749600959553@eventfrog.de
DTSTAMP:20260424T195656Z
DTSTART:20260723T153000Z
DTEND:20260723T163000Z
SUMMARY:Öffentliche Museumsführung
DESCRIPTION:Bereichern Sie Ihren Museumsbesuch mit einer faszinierenden Führung und entdecken Sie spannende Hintergründe.\n\n\n\nhttps://eventfrog.de/de/p/freizeit-ausfluege/ausflug/oeffentliche-museumsfuehrung-7452305749600959553.html
LOCATION:Museum Der Kleine Prinz und seine Welt
GEO:47.206886;7.538773
URL:https://eventfrog.de/de/p/freizeit-ausfluege/ausflug/oeffentliche-museumsfuehrung-7452305749600959553.html
END:VEVENT
END:VCALENDAR