BEGIN:VCALENDAR
VERSION:2.0
PRODID:EVENTFROG//EVENT//ICAL
BEGIN:VEVENT
UID:20260424T083510Z-7452306882679556573@eventfrog.de
DTSTAMP:20260424T083510Z
DTSTART:20260501T190000Z
DTEND:20260502T010000Z
SUMMARY:Thuner GYMER NIGHT PARTY
DESCRIPTION:Am 01.05.2026 bietet die GYMNER NIGHT im LOFT Club Thun House & Charts mit Casa Marasso (21-23 Uhr) und Deepwell (23-03 Uhr).\n\nhttps://eventfrog.de/de/p/partys/disco/thuner-gymer-night-party-7452306882679556573.html
LOCATION:Loft Club
GEO:46.759087;7.629819
URL:https://eventfrog.de/de/p/partys/disco/thuner-gymer-night-party-7452306882679556573.html
END:VEVENT
END:VCALENDAR