BEGIN:VCALENDAR
VERSION:2.0
PRODID:EVENTFROG//EVENT//ICAL
BEGIN:VEVENT
UID:20260424T083606Z-7452310916354327815@eventfrog.de
DTSTAMP:20260424T083606Z
DTSTART:20260517T110000Z
DTEND:20260517T120000Z
SUMMARY:SONNTAGSATELIER «PUZZLEDRUCK»
DESCRIPTION:Aus selbstgemalten Tier-, Mensch- oder Fantasiefiguren individuelle Druckstempel erstellen\n\nhttps://eventfrog.de/de/p/kunst-ausstellungen/weitere-kunstveranstaltungen/sonntagsatelier-puzzledruck-7452310916354327815.html
LOCATION:Forum Würth Arlesheim
GEO:47.497009;7.607158
URL:https://eventfrog.de/de/p/kunst-ausstellungen/weitere-kunstveranstaltungen/sonntagsatelier-puzzledruck-7452310916354327815.html
END:VEVENT
END:VCALENDAR