BEGIN:VCALENDAR
VERSION:2.0
PRODID:EVENTFROG//EVENT//ICAL
BEGIN:VEVENT
UID:20260424T095406Z-7452311723476813436@eventfrog.de
DTSTAMP:20260424T095406Z
DTSTART:20260902T170000Z
DTEND:20260902T193000Z
SUMMARY:Hard Land - Das grosse Rämibühl-Musical
DESCRIPTION:Musical Hard Land - Nach dem Erfolgsroman von Benedict Wells\n\nhttps://eventfrog.de/de/p/musicals-shows/musical/hard-land-das-grosse-raemibuehl-musical-7452311723476813436.html
LOCATION:Aula Rämibühl
GEO:47.371613;8.553032
URL:https://eventfrog.de/de/p/musicals-shows/musical/hard-land-das-grosse-raemibuehl-musical-7452311723476813436.html
END:VEVENT
END:VCALENDAR