BEGIN:VCALENDAR
VERSION:2.0
PRODID:EVENTFROG//EVENT//ICAL
BEGIN:VEVENT
UID:20260424T071511Z-7452312625570925623@eventfrog.de
DTSTAMP:20260424T071511Z
DTSTART:20260510T150000Z
DTEND:20260510T160000Z
SUMMARY:«Ukrainian Poem» – Konzert Violine & Klavier
DESCRIPTION:Oleksandra Fedosova und Stefan Kägi spielen Werke klassischer und ukrainischer Komponisten und tragen Gedichte vor.\n\nhttps://eventfrog.de/de/p/klassik-opern/klassik/ukrainian-poem-konzert-violine-klavier-7452312625570925623.html
LOCATION:Reformierte Kirche Oberrieden
GEO:47.277153;8.576653
URL:https://eventfrog.de/de/p/klassik-opern/klassik/ukrainian-poem-konzert-violine-klavier-7452312625570925623.html
END:VEVENT
END:VCALENDAR