BEGIN:VCALENDAR
VERSION:2.0
PRODID:EVENTFROG//EVENT//ICAL
BEGIN:VEVENT
UID:20260422T055650Z-7452313576822278601@eventfrog.de
DTSTAMP:20260422T055650Z
DTSTART:20260607T093000Z
DTEND:20260607T103000Z
SUMMARY:FORUM WÜRTH ARLESHEIM X CHEZ WÜRTH
DESCRIPTION:Führung durch die Ausstellung, mit anschliessendem Kaffee und Kuchen im Chez Würth.\n\nhttps://eventfrog.de/de/p/fuehrungen-vortraege/fuehrung/forum-wuerth-arlesheim-x-chez-wuerth-7452313576822278601.html
LOCATION:Forum Würth Arlesheim
GEO:47.497009;7.607158
URL:https://eventfrog.de/de/p/fuehrungen-vortraege/fuehrung/forum-wuerth-arlesheim-x-chez-wuerth-7452313576822278601.html
END:VEVENT
END:VCALENDAR