BEGIN:VCALENDAR
VERSION:2.0
PRODID:EVENTFROG//EVENT//ICAL
BEGIN:VEVENT
UID:20260425T164409Z-7452319827505459475@eventfrog.de
DTSTAMP:20260425T164409Z
DTSTART:20260701T150000Z
DTEND:20260701T215900Z
SUMMARY:Bergfest Afterwork
DESCRIPTION:Bergfest Afterwork Party in Leipzig: Musik, Drinks und gute Laune in einzigartiger Industrial-Location mit Resident DJs. Perfekter Start in die zweite Wochenhälfte!\n\nhttps://eventfrog.de/de/p/partys/afterwork/bergfest-afterwork-7452319827505459475.html
LOCATION:EVENTGIESSEREI
GEO:51.328923;12.327375
URL:https://eventfrog.de/de/p/partys/afterwork/bergfest-afterwork-7452319827505459475.html
END:VEVENT
END:VCALENDAR