BEGIN:VCALENDAR
VERSION:2.0
PRODID:EVENTFROG//EVENT//ICAL
BEGIN:VEVENT
UID:20260424T101328Z-7452319874070626513@eventfrog.de
DTSTAMP:20260424T101328Z
DTSTART:20260610T154500Z
DTEND:20260610T173000Z
SUMMARY:Digital Talk: Cybercrime im Geschäftsalltag
DESCRIPTION:Wie denken Hacker? Thomas Kretz zeigt im Digital Talk, wie Cyberangriffe wirklich funktionieren – verständlich, praxisnah, für alle.\n\nhttps://eventfrog.de/de/p/fuehrungen-vortraege/vortrag/digital-talk-cybercrime-im-geschaeftsalltag-7452319874070626513.html
LOCATION:AHA
GEO:47.391543;8.059993
URL:https://eventfrog.de/de/p/fuehrungen-vortraege/vortrag/digital-talk-cybercrime-im-geschaeftsalltag-7452319874070626513.html
END:VEVENT
END:VCALENDAR