BEGIN:VCALENDAR
VERSION:2.0
PRODID:EVENTFROG//EVENT//ICAL
BEGIN:VEVENT
UID:20260424T164237Z-7452325876601990527@eventfrog.de
DTSTAMP:20260424T164237Z
DTSTART:20260701T170000Z
DTEND:20260701T180000Z
SUMMARY:Sommertheater: Romeo und Julia
DESCRIPTION:Ein Solo-Stück, in dem die berühmte Liebesgeschichte in ihrer Tragik, aber auch zuweilen Komik verhandelt wird.\n\nhttps://eventfrog.de/de/p/theater-buehne/theater/sommertheater-romeo-und-julia-7452325876601990527.html
LOCATION:überdachter Hof der Feinkost
GEO:51.326446;12.372892
URL:https://eventfrog.de/de/p/theater-buehne/theater/sommertheater-romeo-und-julia-7452325876601990527.html
END:VEVENT
END:VCALENDAR