BEGIN:VCALENDAR
VERSION:2.0
PRODID:EVENTFROG//EVENT//ICAL
BEGIN:VEVENT
UID:20260424T002606Z-7452331579500678675@eventfrog.de
DTSTAMP:20260424T002606Z
DTSTART:20260509T130000Z
DTEND:20260509T180000Z
SUMMARY:EUROPE DAY
DESCRIPTION:Am 9. Mai feiert ein Festival mit Musik, EU-Rave und Rednern wie Bundespräsident Alexander Van der Bellen am Stephansplatz den Europatag.\n\nhttps://eventfrog.de/de/p/festivals/pop-rock/europe-day-7452331579500678675.html
LOCATION:Stephansplatz
GEO:48.208733;16.373676
URL:https://eventfrog.de/de/p/festivals/pop-rock/europe-day-7452331579500678675.html
END:VEVENT
END:VCALENDAR