BEGIN:VCALENDAR
VERSION:2.0
PRODID:EVENTFROG//EVENT//ICAL
BEGIN:VEVENT
UID:20260421T180249Z-7452331657334382914@eventfrog.de
DTSTAMP:20260421T180249Z
DTSTART:20260503T090000Z
DTEND:20260503T140000Z
SUMMARY:Modellbahn und Spielzeugmarkt
DESCRIPTION:Für einen schönen Sonntag!!\n\nhttps://eventfrog.de/de/p/maerkte/sonstige-maerkte/modellbahn-und-spielzeugmarkt-7452331657334382914.html
LOCATION:Schützenhalle Hemden
GEO:51.879157;6.594804
URL:https://eventfrog.de/de/p/maerkte/sonstige-maerkte/modellbahn-und-spielzeugmarkt-7452331657334382914.html
END:VEVENT
END:VCALENDAR