BEGIN:VCALENDAR
VERSION:2.0
PRODID:EVENTFROG//EVENT//ICAL
BEGIN:VEVENT
UID:20260424T101453Z-7452332281635594283@eventfrog.de
DTSTAMP:20260424T101453Z
DTSTART:20260530T130000Z
DTEND:20260530T140000Z
SUMMARY:Know Your Normal — A Breast Awareness Workshop by Te Toca
DESCRIPTION:Frauen lernen in 60 Minuten mit TaToca-BH, wie sie ihre Brust selbst untersuchen und ihr «normal» erkennen.\n\nhttps://eventfrog.de/en/p/health-spirituality/health-wellbeing/know-your-normal-a-breast-awareness-workshop-by-te-toca-7452332281635594283.html
LOCATION:Labör
GEO:47.410852;8.538635
URL:https://eventfrog.de/en/p/health-spirituality/health-wellbeing/know-your-normal-a-breast-awareness-workshop-by-te-toca-7452332281635594283.html
END:VEVENT
END:VCALENDAR