BEGIN:VCALENDAR
VERSION:2.0
PRODID:EVENTFROG//EVENT//ICAL
BEGIN:VEVENT
UID:20260424T090920Z-7452333008550416675@eventfrog.de
DTSTAMP:20260424T090920Z
DTSTART:20261024T130000Z
DTEND:20261024T143000Z
SUMMARY:Stadtspaziergang Andernach
DESCRIPTION:Gästeführung durch das historische Andernach\n\nhttps://eventfrog.de/de/p/fuehrungen-vortraege/stadtfuehrung/stadtspaziergang-andernach-7452333008550416675.html
LOCATION:Tourist-Information Andernach
GEO:50.439492;7.400656
URL:https://eventfrog.de/de/p/fuehrungen-vortraege/stadtfuehrung/stadtspaziergang-andernach-7452333008550416675.html
END:VEVENT
END:VCALENDAR