BEGIN:VCALENDAR
VERSION:2.0
PRODID:EVENTFROG//EVENT//ICAL
BEGIN:VEVENT
UID:20260424T090918Z-7452333008651079997@eventfrog.de
DTSTAMP:20260424T090918Z
DTSTART:20261031T140000Z
DTEND:20261031T153000Z
SUMMARY:Stadtspaziergang Andernach
DESCRIPTION:Gästeführung durch das historische Andernach\n\nhttps://eventfrog.de/de/p/fuehrungen-vortraege/stadtfuehrung/stadtspaziergang-andernach-7452333008651079997.html
LOCATION:Tourist-Information Andernach
GEO:50.439492;7.400656
URL:https://eventfrog.de/de/p/fuehrungen-vortraege/stadtfuehrung/stadtspaziergang-andernach-7452333008651079997.html
END:VEVENT
END:VCALENDAR