BEGIN:VCALENDAR
VERSION:2.0
PRODID:EVENTFROG//EVENT//ICAL
BEGIN:VEVENT
UID:20260424T083511Z-7452334169592481913@eventfrog.de
DTSTAMP:20260424T083511Z
DTSTART:20260517T150000Z
DTEND:20260517T170000Z
SUMMARY:BREATHE & Restore Breathwork Session
DESCRIPTION:Die "Breathe & Restore" Sunday Breathwork Sessions bieten Atemübungen, Bewegung, Anleitungen zu Atemtechniken und Entspannung. Personen in speziellen Situationen sollten vorher Kontakt aufnehmen.\n\nhttps://eventfrog.de/de/p/gesundheit-spiritualitaet/gesundheit-wohlbefinden/breathe-restore-breathwork-session-7452334169592481913.html
LOCATION:BLG Sports
GEO:47.388535;8.522454
URL:https://eventfrog.de/de/p/gesundheit-spiritualitaet/gesundheit-wohlbefinden/breathe-restore-breathwork-session-7452334169592481913.html
END:VEVENT
END:VCALENDAR