BEGIN:VCALENDAR
VERSION:2.0
PRODID:EVENTFROG//EVENT//ICAL
BEGIN:VEVENT
UID:20260424T094041Z-7452338416333660152@eventfrog.de
DTSTAMP:20260424T094041Z
DTSTART:20260718T073000Z
DTEND:20260718T093000Z
SUMMARY:Erlebnisrundgang bei Limeco
DESCRIPTION:Entdecken Sie im Limeco Energiezentrum die Prozesse der Abwasserreinigung, Abfallverwertung und Energiegewinnung in einer beeindruckenden Führung. Mindestalter: 12 Jahre. Ort: Dietikon.\n\nhttps://eventfrog.de/de/p/fuehrungen-vortraege/fuehrung/erlebnisrundgang-bei-limeco-7452338416333660152.html
LOCATION:Abwasserreinigungsanlage (ARA) Limeco
GEO:47.414005;8.404614
URL:https://eventfrog.de/de/p/fuehrungen-vortraege/fuehrung/erlebnisrundgang-bei-limeco-7452338416333660152.html
END:VEVENT
END:VCALENDAR