BEGIN:VCALENDAR
VERSION:2.0
PRODID:EVENTFROG//EVENT//ICAL
BEGIN:VEVENT
UID:20260424T103543Z-7452342491230004463@eventfrog.de
DTSTAMP:20260424T103543Z
DTSTART:20260707T180000Z
SUMMARY:Kae Tempest
DESCRIPTION:Diesen Sommer schreiben wir ein weiteres Kapitel Musikgeschichte und zwar mit der allerersten Show von Kae Tempest in der legendären Mühle Hunziken!\n\nhttps://eventfrog.de/de/p/konzerte/hip-hop-rap/kae-tempest-7452342491230004463.html
LOCATION:Mühle Hunziken
GEO:46.890789;7.541809
URL:https://eventfrog.de/de/p/konzerte/hip-hop-rap/kae-tempest-7452342491230004463.html
END:VEVENT
END:VCALENDAR