BEGIN:VCALENDAR
VERSION:2.0
PRODID:EVENTFROG//EVENT//ICAL
BEGIN:VEVENT
UID:20260425T124220Z-7452345142122427598@eventfrog.de
DTSTAMP:20260425T124220Z
DTSTART:20260520T150000Z
DTEND:20260520T160000Z
SUMMARY:Besuch im «Paradiesgarten»
DESCRIPTION:Eine öffentliche Führung zum «Festival der Natur».\n\nhttps://eventfrog.de/de/p/freizeit-ausfluege/ausflug/besuch-im-paradiesgarten-7452345142122427598.html
LOCATION:Botanischer Garten
GEO:47.440657;9.407454
URL:https://eventfrog.de/de/p/freizeit-ausfluege/ausflug/besuch-im-paradiesgarten-7452345142122427598.html
END:VEVENT
END:VCALENDAR