BEGIN:VCALENDAR
VERSION:2.0
PRODID:EVENTFROG//EVENT//ICAL
BEGIN:VEVENT
UID:20260424T123404Z-7452346553950336908@eventfrog.de
DTSTAMP:20260424T123404Z
DTSTART:20261206T150000Z
DTEND:20261206T154000Z
SUMMARY:Kinderklassik "Der Nussknacker und der Mäusekönig"
DESCRIPTION:Am Samichlaustag lädt ein Konzert mit Erzählung und Tschaikowskys Musik zu einer zauberhaften Reise in die Märchenwelt ein.\n\nhttps://eventfrog.de/de/p/konzerte/folk/kinderklassik-der-nussknacker-und-der-maeusekoenig-7452346553950336908.html
LOCATION:Zehntenscheune
GEO:47.405988;8.400865
URL:https://eventfrog.de/de/p/konzerte/folk/kinderklassik-der-nussknacker-und-der-maeusekoenig-7452346553950336908.html
END:VEVENT
END:VCALENDAR