BEGIN:VCALENDAR
VERSION:2.0
PRODID:EVENTFROG//EVENT//ICAL
BEGIN:VEVENT
UID:20260426T024850Z-7452347011574026852@eventfrog.de
DTSTAMP:20260426T024850Z
DTSTART:20260526T170000Z
DTEND:20260526T190000Z
SUMMARY:Sommernachtstraum
DESCRIPTION:William Shakespeare - Felix Mendelssohn Bartholdy Ein Sommernachtstraum Die Komödie von Shakespeare in einer konzertanten Sprechfassung zusammen...\n\nhttps://eventfrog.de/de/p/klassik-opern/klassik/sommernachtstraum-7452347011574026852.html
LOCATION:Hochschule Luzern – Musik
GEO:47.032601;8.297006
URL:https://eventfrog.de/de/p/klassik-opern/klassik/sommernachtstraum-7452347011574026852.html
END:VEVENT
END:VCALENDAR