BEGIN:VCALENDAR
VERSION:2.0
PRODID:EVENTFROG//EVENT//ICAL
BEGIN:VEVENT
UID:20260422T024912Z-7452349393691255060@eventfrog.de
DTSTAMP:20260422T024912Z
DTSTART:20260427T163000Z
SUMMARY:Navid Kermani im Gespräch über die Paradoxien unserer Zeit
DESCRIPTION:Navid Kermani und Julia Encke diskutieren, wie persönliche und öffentliche Erfahrungen unsere Wahrnehmung und Verantwortung formen.\n\nhttps://eventfrog.de/de/p/fuehrungen-vortraege/podium/navid-kermani-im-gespraech-ueber-die-paradoxien-unserer-zeit-7452349393691255060.html
LOCATION:Thalia-Buchhaus CAMPE
GEO:49.450789;11.073656
URL:https://eventfrog.de/de/p/fuehrungen-vortraege/podium/navid-kermani-im-gespraech-ueber-die-paradoxien-unserer-zeit-7452349393691255060.html
END:VEVENT
END:VCALENDAR