BEGIN:VCALENDAR
VERSION:2.0
PRODID:EVENTFROG//EVENT//ICAL
BEGIN:VEVENT
UID:20260424T065529Z-7452355605098928686@eventfrog.de
DTSTAMP:20260424T065529Z
DTSTART:20260523T180000Z
DTEND:20260523T230000Z
SUMMARY:Roda de Samba Coletivo Raizes do Samba
DESCRIPTION: Samba em Basel com o Coletivo Raízes do Samba \n\nPrepare-se para uma noite cheia de energia, alegria e muito samba no coração de Basel!\n\nO Coletivo Raízes do Samba é uma banda que nasceu na próp\n\nhttps://eventfrog.de/de/p/konzerte/latin/roda-de-samba-coletivo-raizes-do-samba-7452355605098928686.html
LOCATION:HEIMAT - Bar, Club, Stage, Kitchen
GEO:47.569005;7.601645
URL:https://eventfrog.de/de/p/konzerte/latin/roda-de-samba-coletivo-raizes-do-samba-7452355605098928686.html
END:VEVENT
END:VCALENDAR