BEGIN:VCALENDAR
VERSION:2.0
PRODID:EVENTFROG//EVENT//ICAL
BEGIN:VEVENT
UID:20260424T170053Z-7452357260804651449@eventfrog.de
DTSTAMP:20260424T170053Z
DTSTART:20260530T200000Z
DTEND:20260531T020000Z
SUMMARY:MEGA CHARTS Party - Best Hits all night long
DESCRIPTION:Die besten Hits all night long! Die beliebte MEGA CHARTS Party garantiert eine explosive Stimmung.\n\nhttps://eventfrog.de/de/p/partys/charts-open-format/mega-charts-party-best-hits-all-night-long-7452357260804651449.html
LOCATION:VEGAS Club Lucerne
GEO:47.024369;8.299714
URL:https://eventfrog.de/de/p/partys/charts-open-format/mega-charts-party-best-hits-all-night-long-7452357260804651449.html
END:VEVENT
END:VCALENDAR