BEGIN:VCALENDAR
VERSION:2.0
PRODID:EVENTFROG//EVENT//ICAL
BEGIN:VEVENT
UID:20260424T083252Z-7452357410339983170@eventfrog.de
DTSTAMP:20260424T083252Z
DTSTART:20261114T183000Z
DTEND:20261114T200000Z
SUMMARY:WAGmusic! Konzert "Welcome Home"
DESCRIPTION:Konzert der WAGmusic! in der Westhalle Thun\n14. November 2026, Eintritt ab 18h00, Start 19h30\nEintritt frei, Kollekte zugunsten Kinderspielecke im WAG Restaurant "7ni" \nImbiss, Snack, div. Getränke\n\nhttps://eventfrog.de/de/p/konzerte/chor/wagmusic-konzert-welcome-home-7452357410339983170.html
LOCATION:Westhalle
GEO:46.756443;7.614404
URL:https://eventfrog.de/de/p/konzerte/chor/wagmusic-konzert-welcome-home-7452357410339983170.html
END:VEVENT
END:VCALENDAR