BEGIN:VCALENDAR
VERSION:2.0
PRODID:EVENTFROG//EVENT//ICAL
BEGIN:VEVENT
UID:20260424T083145Z-7452358805571007151@eventfrog.de
DTSTAMP:20260424T083145Z
DTSTART:20260530T180000Z
DTEND:20260531T010000Z
SUMMARY:The Jungle Club 4th Anniversary
DESCRIPTION: Timetable:\n\n30.05.2026\n\n20:00 Musicality Workshop\n21:00 Body Movement\n21:00 Bachata Open Level\n23:00 Live Concert & Show\n\nhttps://eventfrog.de/de/p/partys/latin-brasil/the-jungle-club-4th-anniversary-7452358805571007151.html
LOCATION:The Jungle Club
GEO:47.357019;8.522651
URL:https://eventfrog.de/de/p/partys/latin-brasil/the-jungle-club-4th-anniversary-7452358805571007151.html
END:VEVENT
END:VCALENDAR