BEGIN:VCALENDAR
VERSION:2.0
PRODID:EVENTFROG//EVENT//ICAL
BEGIN:VEVENT
UID:20260424T074711Z-7452360032211999855@eventfrog.de
DTSTAMP:20260424T074711Z
DTSTART:20260501T210000Z
DTEND:20260502T030000Z
SUMMARY:Jersey x Zürich
DESCRIPTION:On May 1st, we’re bringing Jersey straight to Zurich.\nThe French brother duo delivers an electrifying blend of French Touch, indie rock and club energy - impossible to resist.\n\nhttps://eventfrog.de/de/p/konzerte/techno/jersey-x-zuerich-7452360032211999855.html
LOCATION:MÄX
GEO:47.386757;8.516674
URL:https://eventfrog.de/de/p/konzerte/techno/jersey-x-zuerich-7452360032211999855.html
END:VEVENT
END:VCALENDAR