BEGIN:VCALENDAR
VERSION:2.0
PRODID:EVENTFROG//EVENT//ICAL
BEGIN:VEVENT
UID:20260424T082024Z-7452362046467750552@eventfrog.de
DTSTAMP:20260424T082024Z
DTSTART:20260509T190000Z
DTEND:20260510T000000Z
SUMMARY:Elevate
DESCRIPTION:ELEVATE feiert samstags in der Amboss Rampe House- und Techno-Kultur mit künstlerischem Flyer-Design aus Originalgemälden und Animationen.\n\nhttps://eventfrog.de/de/p/partys/house-techno/elevate-7452362046467750552.html
LOCATION:Amboss Rampe
GEO:47.381300;8.531580
URL:https://eventfrog.de/de/p/partys/house-techno/elevate-7452362046467750552.html
END:VEVENT
END:VCALENDAR