BEGIN:VCALENDAR
VERSION:2.0
PRODID:EVENTFROG//EVENT//ICAL
BEGIN:VEVENT
UID:20260424T083508Z-7452369557182752225@eventfrog.de
DTSTAMP:20260424T083508Z
DTSTART:20260627T070000Z
DTEND:20260627T130000Z
SUMMARY:Achtsamkeitstag: Eine kraftvolle Erfahrung in der Stille.
DESCRIPTION:Der Achtsamkeitstag bietet stille Übungen wie Body Scan, Meditation und achtsames Essen zur Vertiefung der Selbstwahrnehmung und Übungen zum Stressabbau.\n\nhttps://eventfrog.de/de/p/gesundheit-spiritualitaet/gesundheit-wohlbefinden/achtsamkeitstag-eine-kraftvolle-erfahrung-in-der-stille-7452369557182752225.html
LOCATION:Achtsamkeitstag Lokation: Schulhaus Semper, Butzenstrasse 8, Affoltern am Albis
GEO:47.277389;8.457279
URL:https://eventfrog.de/de/p/gesundheit-spiritualitaet/gesundheit-wohlbefinden/achtsamkeitstag-eine-kraftvolle-erfahrung-in-der-stille-7452369557182752225.html
END:VEVENT
END:VCALENDAR