BEGIN:VCALENDAR
VERSION:2.0
PRODID:EVENTFROG//EVENT//ICAL
BEGIN:VEVENT
UID:20260424T083627Z-7452372354502526247@eventfrog.de
DTSTAMP:20260424T083627Z
DTSTART:20260523T090000Z
DTEND:20260523T103000Z
SUMMARY:Stress Release and Inner Balance
DESCRIPTION:Psycho-energetic session for stress release and body–mind balance. 1h guided practice + 30 min tea & sharing. Suitable for all. Limited spots.\n\nhttps://eventfrog.de/en/p/health-spirituality/health-wellbeing/stress-release-and-inner-balance-7452372354502526247.html
LOCATION:ANNTIN wellbeing studio
GEO:47.430530;8.559694
URL:https://eventfrog.de/en/p/health-spirituality/health-wellbeing/stress-release-and-inner-balance-7452372354502526247.html
END:VEVENT
END:VCALENDAR