BEGIN:VCALENDAR
VERSION:2.0
PRODID:EVENTFROG//EVENT//ICAL
BEGIN:VEVENT
UID:20260424T232524Z-7452373566165663055@eventfrog.de
DTSTAMP:20260424T232524Z
DTSTART:20260425T170000Z
DTEND:20260425T215900Z
SUMMARY:N17 EVENT LOUNGE : HOUSE CLASSIX mit 3 DJs - 100 % VINYL
DESCRIPTION:Im N17 legen Uncel Baez, Tim Rilies und AKI ab 19 Uhr House-Klassiker und neue Tracks auf 100 % Vinyl auf.\n\nhttps://eventfrog.de/de/p/partys/house-techno/n17-event-lounge-house-classix-mit-3-djs-100-vinyl-7452373566165663055.html
LOCATION:N 17 EVENT LOUNGE Griesheim
GEO:49.868708;8.552770
URL:https://eventfrog.de/de/p/partys/house-techno/n17-event-lounge-house-classix-mit-3-djs-100-vinyl-7452373566165663055.html
END:VEVENT
END:VCALENDAR