BEGIN:VCALENDAR
VERSION:2.0
PRODID:EVENTFROG//EVENT//ICAL
BEGIN:VEVENT
UID:20260422T084109Z-7452375575241456341@eventfrog.de
DTSTAMP:20260422T084109Z
DTSTART:20260507T163000Z
DTEND:20260507T183000Z
SUMMARY:Build Your Tapas Plate - Pottery Workshop
DESCRIPTION:Workshop in Zürich: Anfänger erstellen keramische Tapas-Teller, Preis 105 CHF, inklusive Materialien und Apéro.\n\nhttps://eventfrog.de/en/p/courses-seminars/art-culture/build-your-tapas-plate-pottery-workshop-7452375575241456341.html
LOCATION:CeramicsOnWheels Studio
GEO:47.404456;8.548438
URL:https://eventfrog.de/en/p/courses-seminars/art-culture/build-your-tapas-plate-pottery-workshop-7452375575241456341.html
END:VEVENT
END:VCALENDAR