BEGIN:VCALENDAR
VERSION:2.0
PRODID:EVENTFROG//EVENT//ICAL
BEGIN:VEVENT
UID:20260423T033317Z-7452390136594048500@eventfrog.de
DTSTAMP:20260423T033317Z
DTSTART:20260709T170000Z
DTEND:20260709T200000Z
SUMMARY:Ear:Spa ZiMMT Listening Sessions
DESCRIPTION:Ear:Spa\nZiMMT Listening Sessions\n\nhttps://eventfrog.de/de/p/konzerte/indie-alternative/ear-spa-zimmt-listening-sessions-7452390136594048500.html
LOCATION:ZiMMT
GEO:51.348029;12.420404
URL:https://eventfrog.de/de/p/konzerte/indie-alternative/ear-spa-zimmt-listening-sessions-7452390136594048500.html
END:VEVENT
END:VCALENDAR