BEGIN:VCALENDAR
VERSION:2.0
PRODID:EVENTFROG//EVENT//ICAL
BEGIN:VEVENT
UID:20260422T181527Z-7452390415162961285@eventfrog.de
DTSTAMP:20260422T181527Z
DTSTART:20260425T183000Z
SUMMARY:CASSILS Incontrovertible Being
DESCRIPTION:Cassils kehrt mit INCONTROVERTIBLE BEING, einer sich noch im Work in Progress befindlichen und erstmals in dieser Form gezeigten Arbeit, zu Kampnagel zurück.\n\nhttps://eventfrog.de/de/p/theater-buehne/buehnenveranstaltung/cassils-incontrovertible-being-7452390415162961285.html
LOCATION:Kampnagel, Internationale Kulturfabrik
GEO:53.583863;10.020338
URL:https://eventfrog.de/de/p/theater-buehne/buehnenveranstaltung/cassils-incontrovertible-being-7452390415162961285.html
END:VEVENT
END:VCALENDAR