BEGIN:VCALENDAR
VERSION:2.0
PRODID:EVENTFROG//EVENT//ICAL
BEGIN:VEVENT
UID:20260424T080302Z-7452393533162453487@eventfrog.de
DTSTAMP:20260424T080302Z
DTSTART:20260513T160300Z
SUMMARY:Ausstellungsrundgang
DESCRIPTION:Rundgang durch die Austsellung NOT NOT UTOPIA mit Katharina Henking und Bruno Streich.\n\nhttps://eventfrog.de/de/p/kunst-ausstellungen/weitere-kunstveranstaltungen/ausstellungsrundgang-7452393533162453487.html
LOCATION:oxyd – Kunsträume
GEO:47.498011;8.722655
URL:https://eventfrog.de/de/p/kunst-ausstellungen/weitere-kunstveranstaltungen/ausstellungsrundgang-7452393533162453487.html
END:VEVENT
END:VCALENDAR