BEGIN:VCALENDAR
VERSION:2.0
PRODID:EVENTFROG//EVENT//ICAL
BEGIN:VEVENT
UID:20260424T080258Z-7452394202015492636@eventfrog.de
DTSTAMP:20260424T080258Z
DTSTART:20260614T123000Z
DTEND:20260614T143000Z
SUMMARY:Familienworkshop. Wir träumen uns ...
DESCRIPTION:Familienworkshop  im Rahmen der Ausstellung NOT NOT UTOPIA \n\nhttps://eventfrog.de/de/p/kunst-ausstellungen/weitere-kunstveranstaltungen/familienworkshop-wir-traeumen-uns-7452394202015492636.html
LOCATION:oxyd – Kunsträume
GEO:47.498011;8.722655
URL:https://eventfrog.de/de/p/kunst-ausstellungen/weitere-kunstveranstaltungen/familienworkshop-wir-traeumen-uns-7452394202015492636.html
END:VEVENT
END:VCALENDAR