BEGIN:VCALENDAR
VERSION:2.0
PRODID:EVENTFROG//EVENT//ICAL
BEGIN:VEVENT
UID:20260424T083323Z-7452412636539438445@eventfrog.de
DTSTAMP:20260424T083323Z
DTSTART:20260502T083000Z
DTEND:20260502T100000Z
SUMMARY:Pünktchen und Anton
DESCRIPTION:Die Zauberlaterne - Der Filmklub für 6- bis 12-jährige\n\nhttps://eventfrog.de/de/p/kinderveranstaltungen/kinderfuehrung/puenktchen-und-anton-7452412636539438445.html
LOCATION:Kino Roxy
GEO:47.565019;9.374795
URL:https://eventfrog.de/de/p/kinderveranstaltungen/kinderfuehrung/puenktchen-und-anton-7452412636539438445.html
END:VEVENT
END:VCALENDAR