BEGIN:VCALENDAR
VERSION:2.0
PRODID:EVENTFROG//EVENT//ICAL
BEGIN:VEVENT
UID:20260424T123624Z-7452424781876468904@eventfrog.de
DTSTAMP:20260424T123624Z
DTSTART:20260507T170000Z
DTEND:20260507T200000Z
SUMMARY:Oliviero Gorza - Vernissage "Innere Welten"
DESCRIPTION:Oliviero Gorza zeigt kraftvolle Bronzeskulpturen, die handwerkliche Präzision und emotionale Tiefe verbinden. Ausstellung in der Kulturkirche Starrkirch-Wil.\n\nhttps://eventfrog.de/de/p/kunst-ausstellungen/ausstellung/oliviero-gorza-vernissage-innere-welten-7452424781876468904.html
LOCATION:Kulturkirche Starrkirch-Wil
GEO:47.352722;7.929255
URL:https://eventfrog.de/de/p/kunst-ausstellungen/ausstellung/oliviero-gorza-vernissage-innere-welten-7452424781876468904.html
END:VEVENT
END:VCALENDAR