BEGIN:VCALENDAR
VERSION:2.0
PRODID:EVENTFROG//EVENT//ICAL
BEGIN:VEVENT
UID:20260424T102513Z-7452424959253605265@eventfrog.de
DTSTAMP:20260424T102513Z
DTSTART:20260508T170000Z
DTEND:20260508T200000Z
SUMMARY:Oliviero Gorza - Ausstellung "Innere Welten"
DESCRIPTION:Oliviero Gorza zeigt kraftvolle Bronzeskulpturen, die handwerkliche Präzision und emotionale Tiefe verbinden.\n\nhttps://eventfrog.de/de/p/kunst-ausstellungen/ausstellung/oliviero-gorza-ausstellung-innere-welten-7452424959253605265.html
LOCATION:Kulturkirche Starrkirch-Wil
GEO:47.352722;7.929255
URL:https://eventfrog.de/de/p/kunst-ausstellungen/ausstellung/oliviero-gorza-ausstellung-innere-welten-7452424959253605265.html
END:VEVENT
END:VCALENDAR