BEGIN:VCALENDAR
VERSION:2.0
PRODID:EVENTFROG//EVENT//ICAL
BEGIN:VEVENT
UID:20260422T193911Z-7452436774775741318@eventfrog.de
DTSTAMP:20260422T193911Z
DTSTART:20260523T160000Z
DTEND:20260523T183000Z
SUMMARY:Live Podcast Event in Hamburg: Frauen. Leben. Unfreiheit
DESCRIPTION:Dr. Shazia Noor Malik und Khola Maryam Hübsch diskutieren am 23. Mai 2026 Frauen und Freiheit im Live-Podcast in der Fabrique.\n\nhttps://eventfrog.de/de/p/fuehrungen-vortraege/podium/live-podcast-event-in-hamburg-frauen-leben-unfreiheit-7452436774775741318.html
LOCATION:Fabrique Gängeviertel
GEO:53.557117;9.971824
URL:https://eventfrog.de/de/p/fuehrungen-vortraege/podium/live-podcast-event-in-hamburg-frauen-leben-unfreiheit-7452436774775741318.html
END:VEVENT
END:VCALENDAR