BEGIN:VCALENDAR
VERSION:2.0
PRODID:EVENTFROG//EVENT//ICAL
BEGIN:VEVENT
UID:20260424T071510Z-7452444710734409805@eventfrog.de
DTSTAMP:20260424T071510Z
DTSTART:20260502T200000Z
SUMMARY:Wassup?! 90s & 00s Party w/ Def Cue
DESCRIPTION:90s & 00s Hits mit DJ Def Cue im Club.\n\nhttps://eventfrog.de/de/p/partys/charts-open-format/wassup-90s-00s-party-w-def-cue-7452444710734409805.html
LOCATION:Bar59
GEO:47.041981;8.311045
URL:https://eventfrog.de/de/p/partys/charts-open-format/wassup-90s-00s-party-w-def-cue-7452444710734409805.html
END:VEVENT
END:VCALENDAR