BEGIN:VCALENDAR
VERSION:2.0
PRODID:EVENTFROG//EVENT//ICAL
BEGIN:VEVENT
UID:20260424T080300Z-7452447336087747362@eventfrog.de
DTSTAMP:20260424T080300Z
DTSTART:20260510T090000Z
DTEND:20260510T110000Z
SUMMARY:Pilates & High Tea
DESCRIPTION:Pilates & High Tea\n\nhttps://eventfrog.de/de/p/sport-fitness/yoga/pilates-high-tea-7452447336087747362.html
LOCATION:Rentenwiese
GEO:47.363149;8.536204
URL:https://eventfrog.de/de/p/sport-fitness/yoga/pilates-high-tea-7452447336087747362.html
END:VEVENT
END:VCALENDAR