BEGIN:VCALENDAR
VERSION:2.0
PRODID:EVENTFROG//EVENT//ICAL
BEGIN:VEVENT
UID:20260424T073001Z-7452447520754502972@eventfrog.de
DTSTAMP:20260424T073001Z
DTSTART:20260508T200000Z
SUMMARY:80'90'2000s & Moviesong Special w/ Little Maze
DESCRIPTION:80s, 90s & 00s Moviesong Hits mit DJ Little Maze im Club.\n\nhttps://eventfrog.de/de/p/partys/charts-open-format/80-90-2000s-moviesong-special-w-little-maze-7452447520754502972.html
LOCATION:Bar59
GEO:47.041981;8.311045
URL:https://eventfrog.de/de/p/partys/charts-open-format/80-90-2000s-moviesong-special-w-little-maze-7452447520754502972.html
END:VEVENT
END:VCALENDAR