BEGIN:VCALENDAR
VERSION:2.0
PRODID:EVENTFROG//EVENT//ICAL
BEGIN:VEVENT
UID:20260424T015821Z-7452466585107753430@eventfrog.de
DTSTAMP:20260424T015821Z
DTSTART:20260424T210000Z
DTEND:20260425T030000Z
SUMMARY:MA:ANDERS – Low House  Hard House
DESCRIPTION:Don Juliano und Noldd liefern kompromisslosen Low House und Hard House im SOHO the Club Mannheim ab 16 Uhr.\n\nhttps://eventfrog.de/de/p/partys/house-techno/ma-anders-low-house-hard-house-7452466585107753430.html
LOCATION:Soho Bar Club Lounge
GEO:49.493635;8.463126
URL:https://eventfrog.de/de/p/partys/house-techno/ma-anders-low-house-hard-house-7452466585107753430.html
END:VEVENT
END:VCALENDAR