BEGIN:VCALENDAR
VERSION:2.0
PRODID:EVENTFROG//EVENT//ICAL
BEGIN:VEVENT
UID:20260424T095055Z-7452476240299092958@eventfrog.de
DTSTAMP:20260424T095055Z
DTSTART:20260502T130000Z
DTEND:20260502T133000Z
SUMMARY:Trendshow
DESCRIPTION:Trendshow präsentiert nicht nur Mode\n\nhttps://eventfrog.de/de/p/theater-buehne/trendshow-7452476240299092958.html
LOCATION:dGass
GEO:47.166860;9.478845
URL:https://eventfrog.de/de/p/theater-buehne/trendshow-7452476240299092958.html
END:VEVENT
END:VCALENDAR