BEGIN:VCALENDAR
VERSION:2.0
PRODID:EVENTFROG//EVENT//ICAL
BEGIN:VEVENT
UID:20260424T084818Z-7452476456188274569@eventfrog.de
DTSTAMP:20260424T084818Z
DTSTART:20260426T150000Z
DTEND:20260426T160000Z
SUMMARY:Konzert 6: Oliver Schnyder & Loewe Quartett
DESCRIPTION:Konzert 6: Oliver Schnyder & Loewe Quartett\n\nhttps://eventfrog.de/de/p/konzerte/konzert-6-oliver-schnyder-loewe-quartett-7452476456188274569.html
LOCATION:Schloss Arbon - Landenbergsaal
GEO:47.515525;9.436826
URL:https://eventfrog.de/de/p/konzerte/konzert-6-oliver-schnyder-loewe-quartett-7452476456188274569.html
END:VEVENT
END:VCALENDAR