BEGIN:VCALENDAR
VERSION:2.0
PRODID:EVENTFROG//EVENT//ICAL
BEGIN:VEVENT
UID:20260424T083252Z-7452480952347967191@eventfrog.de
DTSTAMP:20260424T083252Z
DTSTART:20260605T173000Z
DTEND:20260605T190000Z
SUMMARY:Lettera 22
DESCRIPTION:Kaleidoscope scrive una lettera con il pubblico usando una Lettera 22 in uno spettacolo che valorizza i tempi della scrittura.\n\nhttps://eventfrog.de/en/p/theatre-stage/theatre/lettera-22-7452480952347967191.html
LOCATION:Theater Ida
GEO:47.392904;8.496463
URL:https://eventfrog.de/en/p/theatre-stage/theatre/lettera-22-7452480952347967191.html
END:VEVENT
END:VCALENDAR