BEGIN:VCALENDAR
VERSION:2.0
PRODID:EVENTFROG//EVENT//ICAL
BEGIN:VEVENT
UID:20260424T094045Z-7452622254641252662@eventfrog.de
DTSTAMP:20260424T094045Z
DTSTART:20260503T080000Z
DTEND:20260503T090000Z
SUMMARY:Buchpremiere "Nebel am Hang" von und mit Thomas Greber
DESCRIPTION:Buchpremiere "Nebel am Hang" von Thomas Greber zusammen Armin Junghardt vom Verlag Ars Remata in Ennetbaden.\n\nhttps://eventfrog.de/de/p/theater-buehne/lesung/buchpremiere-nebel-am-hang-von-und-mit-thomas-greber-7452622254641252662.html
LOCATION:Kulturzentrum Ennetraum
GEO:47.479597;8.314559
URL:https://eventfrog.de/de/p/theater-buehne/lesung/buchpremiere-nebel-am-hang-von-und-mit-thomas-greber-7452622254641252662.html
END:VEVENT
END:VCALENDAR