BEGIN:VCALENDAR
VERSION:2.0
PRODID:EVENTFROG//EVENT//ICAL
BEGIN:VEVENT
UID:20260422T112619Z-7452623230211245076@eventfrog.de
DTSTAMP:20260422T112619Z
DTSTART:20260511T080000Z
DTEND:20260530T160000Z
SUMMARY:Live Days presented by Thomann
DESCRIPTION:Die Live Days bieten kostenlose Workshops und Praxiswissen zu Licht, Video und Audio von Profis wie Dr. Anselm Görtz.\n\nhttps://eventfrog.de/de/p/messen/messe/live-days-presented-by-thomann-7452623230211245076.html
LOCATION:Thomann Campus
GEO:49.802203;10.731388
URL:https://eventfrog.de/de/p/messen/messe/live-days-presented-by-thomann-7452623230211245076.html
END:VEVENT
END:VCALENDAR